BEGIN:VCALENDAR
VERSION:2.0
PRODID:-//Aspley Hornets Football Club - ECPv5.0.2//NONSGML v1.0//EN
CALSCALE:GREGORIAN
METHOD:PUBLISH
X-WR-CALNAME:Aspley Hornets Football Club
X-ORIGINAL-URL:https://www.aspleyhornets.com.au/football-club
X-WR-CALDESC:Events for Aspley Hornets Football Club
BEGIN:VTIMEZONE
TZID:Australia/Brisbane
BEGIN:STANDARD
TZOFFSETFROM:+1000
TZOFFSETTO:+1000
TZNAME:AEST
DTSTART:20200101T000000
END:STANDARD
END:VTIMEZONE
BEGIN:VEVENT
DTSTART;TZID=Australia/Brisbane:20200307T133000
DTEND;TZID=Australia/Brisbane:20200307T163000
DTSTAMP:20200229T112104
CREATED:20200130T005632Z
LAST-MODIFIED:20200130T005934Z
UID:1707-1583587800-1583598600@www.aspleyhornets.com.au
SUMMARY:NEAFL practice game V Gold Coast Suns
DESCRIPTION:Graham rd will host the NEAFLs 1st Practice game for 2020 against Southport  at 1.30pm on 7th March \nCome and see the guys as they prepare for the regular season which begins on 4th April v Sydney Uni also at Graham Rd \n
URL:https://www.aspleyhornets.com.au/football-club/event/neafl-practice-game-v-gold-coast-suns-2/
END:VEVENT
BEGIN:VEVENT
DTSTART;TZID=Australia/Brisbane:20200314T133000
DTEND;TZID=Australia/Brisbane:20200314T163000
DTSTAMP:20200229T112104
CREATED:20200130T005741Z
LAST-MODIFIED:20200130T005741Z
UID:1709-1584192600-1584203400@www.aspleyhornets.com.au
SUMMARY:NEAFL practice game V Redland Bombers
DESCRIPTION:Graham rd will host the NEAFLs 1st Practice game for 2020 against Redland  at 1.30pm on 14th March \nCome and see the guys as they prepare for the regular season which begins on 4th April v Sydney Uni also at Graham Rd \n
URL:https://www.aspleyhornets.com.au/football-club/event/neafl-practice-game-v-gold-coast-suns-2-2/
END:VEVENT
BEGIN:VEVENT
DTSTART;TZID=Australia/Brisbane:20200314T163000
DTEND;TZID=Australia/Brisbane:20200314T193000
DTSTAMP:20200229T112104
CREATED:20200116T004954Z
LAST-MODIFIED:20200130T004845Z
UID:1677-1584203400-1584214200@www.aspleyhornets.com.au
SUMMARY:Season Launch
DESCRIPTION:Join us for 2020 Season Launch. \nThis our oppotunity to get the entire football club together after the NEAFL practice game V Redland to officially Launch the 2020 Season. \nThere will fun things for the kids to do\, and a great chance to mingle as “One Club” before the season gets underway. \nKeep your eye on our     https://www.facebook.com/AspleyHornetsFC/            for upcomming event information \n
URL:https://www.aspleyhornets.com.au/football-club/event/graham-road-field-closure-2-2018-12-19-2/2020-03-14/
LOCATION:Graham Road\, 50 Graham Road\, Carseldine\, Queensland\, 4034\, Australia
CATEGORIES:Sports Club
GEO:-27.3571699;153.0120281
X-APPLE-STRUCTURED-LOCATION;VALUE=URI;X-ADDRESS=Graham Road 50 Graham Road Carseldine Queensland 4034 Australia;X-APPLE-RADIUS=500;X-TITLE=50 Graham Road:geo:153.0120281,-27.3571699
END:VEVENT
BEGIN:VEVENT
DTSTART;TZID=Australia/Brisbane:20200321T133000
DTEND;TZID=Australia/Brisbane:20200321T163000
DTSTAMP:20200229T112104
CREATED:20200130T005247Z
LAST-MODIFIED:20200130T005459Z
UID:1702-1584797400-1584808200@www.aspleyhornets.com.au
SUMMARY:NEAFL practice game V Southport Sharks
DESCRIPTION:Graham rd will host the NEAFLs 3rd Practice game for 2020 against Southport  at 1.30pm on 21st March. \nCome and see the guys as they prepare for the regular season which begins on 4th April v Sydney Uni also at Graham Rd \n
URL:https://www.aspleyhornets.com.au/football-club/event/neafl-practice-game-v-gold-coast-suns/
END:VEVENT
BEGIN:VEVENT
DTSTART;TZID=Australia/Brisbane:20200404T163000
DTEND;TZID=Australia/Brisbane:20200404T193000
DTSTAMP:20200229T112104
CREATED:20200116T010107Z
LAST-MODIFIED:20200116T010107Z
UID:1681-1586017800-1586028600@www.aspleyhornets.com.au
SUMMARY:Reverse Raffle
DESCRIPTION:250 tickets @ $50 each. \nTickets can be purchased through reception \n
URL:https://www.aspleyhornets.com.au/football-club/event/graham-road-field-closure-2-2018-12-19-2-2/2020-04-04/
LOCATION:Graham Road\, 50 Graham Road\, Carseldine\, Queensland\, 4034\, Australia
CATEGORIES:Sports Club
GEO:-27.3571699;153.0120281
X-APPLE-STRUCTURED-LOCATION;VALUE=URI;X-ADDRESS=Graham Road 50 Graham Road Carseldine Queensland 4034 Australia;X-APPLE-RADIUS=500;X-TITLE=50 Graham Road:geo:153.0120281,-27.3571699
END:VEVENT
BEGIN:VEVENT
DTSTART;TZID=Australia/Brisbane:20200627T180000
DTEND;TZID=Australia/Brisbane:20200627T233000
DTSTAMP:20200229T112104
CREATED:20200116T010308Z
LAST-MODIFIED:20200116T010308Z
UID:1683-1593280800-1593300600@www.aspleyhornets.com.au
SUMMARY:Gala Ball
DESCRIPTION:Details TBC \n
URL:https://www.aspleyhornets.com.au/football-club/event/graham-road-field-closure-2-2018-12-19-2-2-2/2020-06-27/
LOCATION:Graham Road\, 50 Graham Road\, Carseldine\, Queensland\, 4034\, Australia
CATEGORIES:Sports Club
GEO:-27.3571699;153.0120281
X-APPLE-STRUCTURED-LOCATION;VALUE=URI;X-ADDRESS=Graham Road 50 Graham Road Carseldine Queensland 4034 Australia;X-APPLE-RADIUS=500;X-TITLE=50 Graham Road:geo:153.0120281,-27.3571699
END:VEVENT
BEGIN:VEVENT
DTSTART;TZID=Australia/Brisbane:20200718T180000
DTEND;TZID=Australia/Brisbane:20200718T233000
DTSTAMP:20200229T112104
CREATED:20200116T010453Z
LAST-MODIFIED:20200116T010453Z
UID:1685-1595095200-1595115000@www.aspleyhornets.com.au
SUMMARY:Trivia Night
DESCRIPTION:Trivia night at this stage will be held at the Hornets Sporting club. \nDetails TBC \n  \n
URL:https://www.aspleyhornets.com.au/football-club/event/graham-road-field-closure-2-2018-12-19-2-2-2-2/2020-07-18/
LOCATION:Graham Road\, 50 Graham Road\, Carseldine\, Queensland\, 4034\, Australia
CATEGORIES:Sports Club
GEO:-27.3571699;153.0120281
X-APPLE-STRUCTURED-LOCATION;VALUE=URI;X-ADDRESS=Graham Road 50 Graham Road Carseldine Queensland 4034 Australia;X-APPLE-RADIUS=500;X-TITLE=50 Graham Road:geo:153.0120281,-27.3571699
END:VEVENT
END:VCALENDAR